BEGIN:VCALENDAR
VERSION:2.0
PRODID:-//Squarespace Inc/Squarespace 6//v6//EN
BEGIN:VEVENT
UID:5cc240ac41920208f085b786@squarespace.com
DTSTAMP:20190509T100528Z
DTSTART:20190608T233000Z
DTEND:20190614T003000Z
SUMMARY:BodyWise Professionals Retreat HAWAII
GEO:19.497503;-154.95081
LOCATION:Pahoa\, Hawaii\, USA
END:VEVENT
END:VCALENDAR
