BEGIN:VCALENDAR
VERSION:2.0
PRODID:-//Squarespace Inc/Squarespace 6//v6//EN
BEGIN:VEVENT
UID:5cda48fe53450a04be55d824@squarespace.com
DTSTAMP:20190514T045225Z
DTSTART:20190919T230000Z
DTEND:20190920T063000Z
SUMMARY:Working with PCOS with Terrill Bruere - SYDNEY
END:VEVENT
END:VCALENDAR
