BEGIN:VCALENDAR
VERSION:2.0
PRODID:-//Squarespace Inc/Squarespace 6//v6//EN
BEGIN:VEVENT
UID:5cabd9ef4e17b66560bef020@squarespace.com
DTSTAMP:20190423T022830Z
DTSTART:20190708T000000Z
DTEND:20190708T010000Z
SUMMARY:Weight Neutral for Diabetes Care (WN4DC) Symposium - Nuts &amp\; Bo
 lts
END:VEVENT
END:VCALENDAR
