BEGIN:VCALENDAR
VERSION:2.0
PRODID:-//Squarespace Inc/Squarespace 6//v6//EN
BEGIN:VEVENT
UID:5cabdb1471c10be29116a7ec@squarespace.com
DTSTAMP:20190423T022902Z
DTSTART:20190715T000000Z
DTEND:20190715T010000Z
SUMMARY:Weight Neutral for Diabetes Care (WN4DC) Symposium - Weight Neutral 
 Care
END:VEVENT
END:VCALENDAR
