BEGIN:VCALENDAR
VERSION:2.0
PRODID:-//Squarespace Inc/Squarespace 6//v6//EN
BEGIN:VEVENT
UID:5cabdbd024a69481742dc171@squarespace.com
DTSTAMP:20190423T022941Z
DTSTART:20190722T000000Z
DTEND:20190722T010000Z
SUMMARY:Weight Neutral for Diabetes Care (WN4DC) Symposium - Counselling
END:VEVENT
END:VCALENDAR
