BEGIN:VCALENDAR
VERSION:2.0
PRODID:-//Squarespace Inc/Squarespace 6//v6//EN
BEGIN:VEVENT
UID:5cabdc0753450a8f6effca39@squarespace.com
DTSTAMP:20190423T023011Z
DTSTART:20190729T000000Z
DTEND:20190729T010000Z
SUMMARY:Weight Neutral for Diabetes Care (WN4DC) Symposium - Disordered Eat
 ing
END:VEVENT
END:VCALENDAR
