BEGIN:VCALENDAR
VERSION:2.0
PRODID:-//Squarespace Inc/Squarespace 6//v6//EN
BEGIN:VEVENT
UID:5c5cb792652dea9c2c62fcf6@squarespace.com
DTSTAMP:20190207T230224Z
DTSTART:20190913T223000Z
DTEND:20190914T073000Z
SUMMARY:Weight Inclusive Nutrition &amp\; Dietetics Symposium
GEO:38.907192;-77.036871
LOCATION:Washington DC\, United States
END:VEVENT
END:VCALENDAR
