BEGIN:VCALENDAR
VERSION:2.0
PRODID:-//Squarespace Inc/Squarespace 6//v6//EN
BEGIN:VEVENT
UID:5c5cb2537817f7e03ee2a149@squarespace.com
DTSTAMP:20190227T090300Z
DTSTART:20190225T000000Z
DTEND:20190225T020000Z
SUMMARY:Virtual HAES Clinical Supervision Group - Maria Paredes
END:VEVENT
END:VCALENDAR
