BEGIN:VCALENDAR
VERSION:2.0
PRODID:-//Squarespace Inc/Squarespace 6//v6//EN
BEGIN:VEVENT
UID:5c6d2a1a1905f4ab08eb9766@squarespace.com
DTSTAMP:20190220T103604Z
DTSTART:20190220T220000Z
DTEND:20190221T000000Z
SUMMARY:Eating Disorders for Sports Dietitians - Live Workshop
GEO:-33.850218;151.070315
LOCATION:Hosts: Fiona Sutherland\, Shane Jeffrey\, NSWIS\, Sydney\, Austral
 ia
END:VEVENT
END:VCALENDAR
