BEGIN:VCALENDAR
VERSION:2.0
PRODID:-//Squarespace Inc/Squarespace 6//v6//EN
BEGIN:VEVENT
UID:5c6d2d941905f4ab08ebab6d@squarespace.com
DTSTAMP:20190227T183317Z
DTSTART:20190312T220000Z
DTEND:20190316T060000Z
SUMMARY:ICED 2019\, New York City
GEO:40.753787;-73.986039
LOCATION:ICED 2019\, Times Square Marriott Hotel\, New York\, USA
END:VEVENT
END:VCALENDAR
