BEGIN:VCALENDAR
VERSION:2.0
PRODID:-//Squarespace Inc/Squarespace 6//v6//EN
BEGIN:VEVENT
UID:5c5cb4f1fa0d60669c299b6b@squarespace.com
DTSTAMP:20190227T184514Z
DTSTART:20190520T010000Z
DTEND:20190520T030000Z
SUMMARY:Virtual HAES Clinical Supervision Group
END:VEVENT
END:VCALENDAR
