BEGIN:VCALENDAR
VERSION:2.0
PRODID:-//Squarespace Inc/Squarespace 6//v6//EN
BEGIN:VEVENT
UID:5c5cb4a9652dea9c2c62d809@squarespace.com
DTSTAMP:20190227T184254Z
DTSTART:20190325T000000Z
DTEND:20190325T020000Z
SUMMARY:Virtual HAES Clinical Supervision Group
END:VEVENT
END:VCALENDAR
