BEGIN:VCALENDAR
VERSION:2.0
PRODID:-//Squarespace Inc/Squarespace 6//v6//EN
BEGIN:VEVENT
UID:5c5cb4db6e9a7f7a0c7de23b@squarespace.com
DTSTAMP:20190227T094710Z
DTSTART:20190429T010000Z
DTEND:20190429T030000Z
SUMMARY:Virtual HAES Clinical Supervision Group
END:VEVENT
END:VCALENDAR
