BEGIN:VCALENDAR
VERSION:2.0
PRODID:-//Squarespace Inc/Squarespace 6//v6//EN
BEGIN:VEVENT
UID:5e4253ee8185f139c70494ad@squarespace.com
DTSTAMP:20200211T071643Z
DTSTART:20200513T230000Z
DTEND:20200515T070000Z
SUMMARY:Responsive Feeding Therapy Conference DALLAS
GEO:32.776664;-96.796988
LOCATION:Dallas\, USA
END:VEVENT
END:VCALENDAR
