BEGIN:VCALENDAR
VERSION:2.0
PRODID:-//Squarespace Inc/Squarespace 6//v6//EN
BEGIN:VEVENT
UID:5cc23c208627c50001b1fb18@squarespace.com
DTSTAMP:20190425T231051Z
DTSTART:20190523T230000Z
DTEND:20190525T070000Z
SUMMARY:RAVES Workshop Melbourne - Shane Jeffrey
END:VEVENT
END:VCALENDAR
