BEGIN:VCALENDAR
VERSION:2.0
PRODID:-//Squarespace Inc/Squarespace 6//v6//EN
BEGIN:VEVENT
UID:5cc23e644e17b643f6b4eb87@squarespace.com
DTSTAMP:20190425T231132Z
DTSTART:20190620T230000Z
DTEND:20190622T070000Z
SUMMARY:RAVES Workshop Sydney - Shane Jeffrey
END:VEVENT
END:VCALENDAR
