BEGIN:VCALENDAR
VERSION:2.0
PRODID:-//Squarespace Inc/Squarespace 6//v6//EN
BEGIN:VEVENT
UID:5cc23e414e17b643f6b4ea90@squarespace.com
DTSTAMP:20190425T231113Z
DTSTART:20190606T230000Z
DTEND:20190608T070000Z
SUMMARY:RAVES Workshop Brisbane - Shane Jeffrey
END:VEVENT
END:VCALENDAR
