BEGIN:VCALENDAR
VERSION:2.0
PRODID:-//Squarespace Inc/Squarespace 6//v6//EN
BEGIN:VEVENT
UID:5c6d310cb208fc802a8171f7@squarespace.com
DTSTAMP:20190327T232650Z
DTSTART:20190625T223000Z
DTEND:20190627T063000Z
SUMMARY:Non Diet Approach Workshop For Dietitians (Perth)
GEO:-32.0569;115.7439
LOCATION:Fremantle\, Perth\, Australia
END:VEVENT
END:VCALENDAR
