BEGIN:VCALENDAR
VERSION:2.0
PRODID:-//Squarespace Inc/Squarespace 6//v6//EN
BEGIN:VEVENT
UID:5c7a03717817f77ad92f346f@squarespace.com
DTSTAMP:20190327T232400Z
DTSTART:20191006T213000Z
DTEND:20191008T053000Z
SUMMARY:Non Diet Approach Workshop For Dietitians (Auckland)
GEO:-36.856727;174.781248
LOCATION:Parnell Community Centre\, Parnell Rd\, Auckland\, New Zealand
END:VEVENT
END:VCALENDAR
