BEGIN:VCALENDAR
VERSION:2.0
PRODID:-//Squarespace Inc/Squarespace 6//v6//EN
BEGIN:VEVENT
UID:5c79f83ce5e5f0bda5168984@squarespace.com
DTSTAMP:20190327T232612Z
DTSTART:20191120T213000Z
DTEND:20191122T053000Z
SUMMARY:Non Diet Approach Workshop For Dietitians (Newcastle)
GEO:-32.928271;151.78168
LOCATION:Newcastle\, Australia
END:VEVENT
END:VCALENDAR
