BEGIN:VCALENDAR
VERSION:2.0
PRODID:-//Squarespace Inc/Squarespace 6//v6//EN
BEGIN:VEVENT
UID:5c7a03e9e2c4834c1a243d8e@squarespace.com
DTSTAMP:20190327T232541Z
DTSTART:20191011T213000Z
DTEND:20191013T053000Z
SUMMARY:Non Diet Approach Workshop For Dietitians (Melbourne)
GEO:-37.802198;145.004052
LOCATION:Abbotsford Convent\, Saint Heliers Street\, Abbotsford\, VIC\, 306
 7\, Australia
END:VEVENT
END:VCALENDAR
