BEGIN:VCALENDAR
VERSION:2.0
PRODID:-//Squarespace Inc/Squarespace 6//v6//EN
BEGIN:VEVENT
UID:5cc80b2b15fcc01bd0c0a6e7@squarespace.com
DTSTAMP:20190605T225925Z
DTSTART:20190911T230000Z
DTEND:20190913T070000Z
SUMMARY:Non Diet Approach - Principles\, Practice\, Purpose WASHINGTON DC
GEO:38.907192;-77.036871
LOCATION:Washington DC\, USA
END:VEVENT
END:VCALENDAR
