BEGIN:VCALENDAR
VERSION:2.0
PRODID:-//Squarespace Inc/Squarespace 6//v6//EN
BEGIN:VEVENT
UID:5cd3c581ec212d77a83dc4e1@squarespace.com
DTSTAMP:20190513T222419Z
DTSTART:20190906T230000Z
DTEND:20190908T070000Z
SUMMARY:Non Diet Approach - Principles\, Practice\, Purpose TORONTO
GEO:38.907192;-77.036871
LOCATION:Washington DC\, USA
END:VEVENT
END:VCALENDAR
