BEGIN:VCALENDAR
VERSION:2.0
PRODID:-//Squarespace Inc/Squarespace 6//v6//EN
BEGIN:VEVENT
UID:5e0e866bd7c3d1363d09f0fd@squarespace.com
DTSTAMP:20200227T031836Z
DTSTART:20200514T230000Z
DTEND:20200516T070000Z
SUMMARY:Non Diet Approach - Principles\, Practice\, Purpose SAN DIEGO
GEO:32.744809;-117.186351
LOCATION:FEMxQuarters\, 1919 San Diego Avenue\, San Diego\, CA\, 92110\, Un
 ited States
END:VEVENT
END:VCALENDAR
