BEGIN:VCALENDAR
VERSION:2.0
PRODID:-//Squarespace Inc/Squarespace 6//v6//EN
BEGIN:VEVENT
UID:5cd3c6019140b7cc62471b25@squarespace.com
DTSTAMP:20190728T220110Z
DTSTART:20190902T230000Z
DTEND:20190904T063000Z
SUMMARY:Non Diet Approach - Principles\, Practice\, Purpose HOUSTON
GEO:38.907192;-77.036871
LOCATION:Washington DC\, USA
END:VEVENT
END:VCALENDAR
