BEGIN:VCALENDAR
VERSION:2.0
PRODID:-//Squarespace Inc/Squarespace 6//v6//EN
BEGIN:VEVENT
UID:5c5ca3da7817f7e03ee1d9c5@squarespace.com
DTSTAMP:20190227T184159Z
DTSTART:20190409T210000Z
DTEND:20190410T100000Z
SUMMARY:Non Diet and Decoding Skills Training for RD's\, 2Bs and Coaches
END:VEVENT
END:VCALENDAR
