BEGIN:VCALENDAR
VERSION:2.0
PRODID:-//Squarespace Inc/Squarespace 6//v6//EN
BEGIN:VEVENT
UID:5c5caff76e9a7f7a0c7da43e@squarespace.com
DTSTAMP:20190215T014927Z
DTSTART:20190508T230000Z
DTEND:20190510T080000Z
SUMMARY:National Eating Disorder Information Centre (NEDIC) Conference
GEO:43.654097;-79.385007
LOCATION:Chestnut Conference Centre\, 89 Chestnut St\, Toronto\, Canada
END:VEVENT
END:VCALENDAR
