BEGIN:VCALENDAR
VERSION:2.0
PRODID:-//Squarespace Inc/Squarespace 6//v6//EN
BEGIN:VEVENT
UID:5cda47b1652dea216f8ef487@squarespace.com
DTSTAMP:20190514T044929Z
DTSTART:20190515T230000Z
DTEND:20190517T070000Z
SUMMARY:Motivational Interviewing 1 &amp\; 2 BRISBANE
END:VEVENT
END:VCALENDAR
