BEGIN:VCALENDAR
VERSION:2.0
PRODID:-//Squarespace Inc/Squarespace 6//v6//EN
BEGIN:VEVENT
UID:5df87b8aec20c045b7c3dbaa@squarespace.com
DTSTAMP:20191217T065432Z
DTSTART:20200624T230000Z
DTEND:20200626T070000Z
SUMMARY:Motivational Interviewing 1 &amp\; 2\, BRISBANE
GEO:-27.469771;153.025124
LOCATION:Brisbane
END:VEVENT
END:VCALENDAR
