BEGIN:VCALENDAR
VERSION:2.0
PRODID:-//Squarespace Inc/Squarespace 6//v6//EN
BEGIN:VEVENT
UID:5cc259db048af40001410df6@squarespace.com
DTSTAMP:20190426T011035Z
DTSTART:20190524T013000Z
DTEND:20190527T023000Z
SUMMARY:Mindful Eating Meditation Retreat with Andrea Lieberstein
GEO:37.126058;-122.122187
LOCATION:Boulder Creek\, USA
END:VEVENT
END:VCALENDAR
