BEGIN:VCALENDAR
VERSION:2.0
PRODID:-//Squarespace Inc/Squarespace 6//v6//EN
BEGIN:VEVENT
UID:5c6d324ef9619a57b1663ba6@squarespace.com
DTSTAMP:20190227T183721Z
DTSTART:20190308T213000Z
DTEND:20190310T053000Z
SUMMARY:Exercise Management in Eating Disorders - the MAWDIVE framework
GEO:-33.825443;151.2017
LOCATION:Crows Nest Centre\, Crows Nest\, Australia
END:VEVENT
END:VCALENDAR
