BEGIN:VCALENDAR
VERSION:2.0
PRODID:-//Squarespace Inc/Squarespace 6//v6//EN
BEGIN:VEVENT
UID:5c5cb36a0d9297e6b295e02e@squarespace.com
DTSTAMP:20190227T183714Z
DTSTART:20190307T220000Z
DTEND:20190309T010000Z
SUMMARY:Jessica Setnick's Eating Disorders Boot Camp (Winnipeg\, Canada)
GEO:40.720756;-74.000761
LOCATION:Winnipeg\, Canada
END:VEVENT
END:VCALENDAR
