BEGIN:VCALENDAR
VERSION:2.0
PRODID:-//Squarespace Inc/Squarespace 6//v6//EN
BEGIN:VEVENT
UID:5c5cb6a4e5e5f09c9b9aef50@squarespace.com
DTSTAMP:20190227T184241Z
DTSTART:20190328T220000Z
DTEND:20190330T010000Z
SUMMARY:Jessica Setnick's Eating Disorders Boot Camp (Boise\, Idaho)
GEO:43.615019;-116.202314
LOCATION:Boise\, United States
END:VEVENT
END:VCALENDAR
