BEGIN:VCALENDAR
VERSION:2.0
PRODID:-//Squarespace Inc/Squarespace 6//v6//EN
BEGIN:VEVENT
UID:5c5cb6e50d9297e6b2960cb3@squarespace.com
DTSTAMP:20190227T092934Z
DTSTART:20190620T230000Z
DTEND:20190622T020000Z
SUMMARY:Jessica Setnick's Eating Disorders Boot Camp (Boston)
GEO:42.360082;-71.05888
LOCATION:Boston\, United States
END:VEVENT
END:VCALENDAR
