BEGIN:VCALENDAR
VERSION:2.0
PRODID:-//Squarespace Inc/Squarespace 6//v6//EN
BEGIN:VEVENT
UID:5cc23fb887c6c60001d415aa@squarespace.com
DTSTAMP:20190425T231914Z
DTSTART:20190506T003000Z
DTEND:20190506T013000Z
SUMMARY:Intuitive Eating PRO Series Starting Today!
END:VEVENT
END:VCALENDAR
