BEGIN:VCALENDAR
VERSION:2.0
PRODID:-//Squarespace Inc/Squarespace 6//v6//EN
BEGIN:VEVENT
UID:5cd3d526419202bc72df77d5@squarespace.com
DTSTAMP:20190725T234139Z
DTSTART:20190818T230000Z
DTEND:20190819T063000Z
SUMMARY:Introduction to ACT (Acceptance &amp\; Commitment Therapy) MELBOURN
 E
GEO:-37.787047;145.131289
LOCATION:MC Square\, 687 Doncaster Rd\, Doncaster\, Vic\, Australia
END:VEVENT
END:VCALENDAR
