BEGIN:VCALENDAR
VERSION:2.0
PRODID:-//Squarespace Inc/Squarespace 6//v6//EN
BEGIN:VEVENT
UID:5c6d38de104c7bccf2691630@squarespace.com
DTSTAMP:20190622T001606Z
DTSTART:20190825T070000Z
DTEND:20190829T030000Z
SUMMARY:HAES Professionals Retreat with Dianne Bondy &amp\; Fiona Sutherlan
 d - Vermont\, USA
GEO:44.558803;-72.577841
LOCATION:Vermont\, USA
END:VEVENT
END:VCALENDAR
