BEGIN:VCALENDAR
VERSION:2.0
PRODID:-//Squarespace Inc/Squarespace 6//v6//EN
BEGIN:VEVENT
UID:5c5ca92a4e17b603e1c275e9@squarespace.com
DTSTAMP:20190227T184351Z
DTSTART:20190323T010000Z
DTEND:20190323T040000Z
SUMMARY:Finding Satisfaction in Dietetics
END:VEVENT
END:VCALENDAR
