BEGIN:VCALENDAR
VERSION:2.0
PRODID:-//Squarespace Inc/Squarespace 6//v6//EN
BEGIN:VEVENT
UID:5ca2e069fa0d6040e5fcd9ce@squarespace.com
DTSTAMP:20190402T053620Z
DTSTART:20190619T230000Z
DTEND:20190621T063000Z
SUMMARY:Family Based Therapy (FBT) for Adolescents with Anorexia Nervosa (M
 ELBOURNE)
GEO:40.720756;-74.000761
LOCATION:CEED\, 34-54 Poplar Road\, Parkville\, Australia
END:VEVENT
END:VCALENDAR
