BEGIN:VCALENDAR
VERSION:2.0
PRODID:-//Squarespace Inc/Squarespace 6//v6//EN
BEGIN:VEVENT
UID:5c5cbce0e4966b3a98856d90@squarespace.com
DTSTAMP:20190227T183634Z
DTSTART:20190303T233000Z
DTEND:20190304T073000Z
SUMMARY:Everything You Didn't Learn in School: The RD-to-be's Crash Course 
 and Support in Intuitive Eating and Health at Every Size
END:VEVENT
END:VCALENDAR
