BEGIN:VCALENDAR
VERSION:2.0
PRODID:-//Squarespace Inc/Squarespace 6//v6//EN
BEGIN:VEVENT
UID:5cac1bd7104c7bf28e36726b@squarespace.com
DTSTAMP:20190423T022624Z
DTSTART:20190416T230000Z
DTEND:20190417T003000Z
SUMMARY:EDRDPro Webinar Series with Jenna Hollenstein
END:VEVENT
END:VCALENDAR
