BEGIN:VCALENDAR
VERSION:2.0
PRODID:-//Squarespace Inc/Squarespace 6//v6//EN
BEGIN:VEVENT
UID:5cabf408652deaf1033a559e@squarespace.com
DTSTAMP:20190423T022731Z
DTSTART:20190612T020000Z
DTEND:20190612T030000Z
SUMMARY:EDRDPro Round Table
END:VEVENT
END:VCALENDAR
