BEGIN:VCALENDAR
VERSION:2.0
PRODID:-//Squarespace Inc/Squarespace 6//v6//EN
BEGIN:VEVENT
UID:5cabf2fc0852294abbfa3d89@squarespace.com
DTSTAMP:20190423T023039Z
DTSTART:20190715T230000Z
DTEND:20190716T000000Z
SUMMARY:EDRDPro Webinar Series: Trauma &amp\; Eating Disorders Part 3
END:VEVENT
END:VCALENDAR
