BEGIN:VCALENDAR
VERSION:2.0
PRODID:-//Squarespace Inc/Squarespace 6//v6//EN
BEGIN:VEVENT
UID:5cabf503ec212dd9a32ab790@squarespace.com
DTSTAMP:20190423T022801Z
DTSTART:20190628T000000Z
DTEND:20190628T010000Z
SUMMARY:EDRDPro Webinar Series: Trauma &amp\; Eating Disorders Part 2
END:VEVENT
END:VCALENDAR
