BEGIN:VCALENDAR
VERSION:2.0
PRODID:-//Squarespace Inc/Squarespace 6//v6//EN
BEGIN:VEVENT
UID:5cabf65b6e9a7f03ae0353e0@squarespace.com
DTSTAMP:20190409T013524Z
DTSTART:20190621T230000Z
DTEND:20190622T000000Z
SUMMARY:EDRDPro Webinar Series with Robyn Nohling
END:VEVENT
END:VCALENDAR
