BEGIN:VCALENDAR
VERSION:2.0
PRODID:-//Squarespace Inc/Squarespace 6//v6//EN
BEGIN:VEVENT
UID:5c7652b653450a175ca8abb5@squarespace.com
DTSTAMP:20190227T183642Z
DTSTART:20190301T093000Z
DTEND:20190304T103000Z
SUMMARY:EDRDPro Online Training
END:VEVENT
END:VCALENDAR
