BEGIN:VCALENDAR
VERSION:2.0
PRODID:-//Squarespace Inc/Squarespace 6//v6//EN
BEGIN:VEVENT
UID:5c5cb934e4966b3a988540dc@squarespace.com
DTSTAMP:20190227T094642Z
DTSTART:20190329T010000Z
DTEND:20190329T030000Z
SUMMARY:Complex Feeding Clinical Supervision Group 
END:VEVENT
END:VCALENDAR
