BEGIN:VCALENDAR
VERSION:2.0
PRODID:-//Squarespace Inc/Squarespace 6//v6//EN
BEGIN:VEVENT
UID:5c5cbaf3c8302510254418dd@squarespace.com
DTSTAMP:20190227T184459Z
DTSTART:20190515T223000Z
DTEND:20190516T073000Z
SUMMARY:Compassion Focused Therapy for Eating Disorders (Hobart)
GEO:37.605533;-97.322207
LOCATION:Hobart
END:VEVENT
END:VCALENDAR
