BEGIN:VCALENDAR
VERSION:2.0
PRODID:-//Squarespace Inc/Squarespace 6//v6//EN
BEGIN:VEVENT
UID:5c5cbc2fe2c483d9d3a6312b@squarespace.com
DTSTAMP:20190207T231621Z
DTSTART:20190917T223000Z
DTEND:20190918T073000Z
SUMMARY:Compassion Focused Therapy for Eating Disorders (Sydney)
GEO:37.605533;-97.322207
LOCATION:Sydney
END:VEVENT
END:VCALENDAR
