BEGIN:VCALENDAR
VERSION:2.0
PRODID:-//Squarespace Inc/Squarespace 6//v6//EN
BEGIN:VEVENT
UID:5c5cbc0ce5e5f09c9b9b33d8@squarespace.com
DTSTAMP:20190227T095119Z
DTSTART:20190626T223000Z
DTEND:20190627T073000Z
SUMMARY:Compassion Focused Therapy for Eating Disorders (Melbourne)
GEO:37.605533;-97.322207
LOCATION:Melbourne
END:VEVENT
END:VCALENDAR
